BEGIN:VCALENDAR
VERSION:2.0
PRODID:icalendar-ruby
CALSCALE:GREGORIAN
METHOD:PUBLISH
BEGIN:VEVENT
DTSTAMP:20260421T170829Z
UID:143-1712282@transformtbay.com
DTSTART:20260902T110000Z
DTEND:20260902T120000Z
CLASS:PUBLIC
CREATED:20260421T114113
DESCRIPTION: This is one hour of prayer on Zoom\, with a small group prayi
 ng as the Lord leads us. We begin with some songs of worship\, and we ofte
 n share a bit about what is going on in our personal lives and often pray 
 for each other regarding the things that we are facing. We pray for indivi
 dual people and needs\, for national needs and we often pray about the war
  in the Middle East\, praying for Israel and for the other people and nati
 ons impacted by the war.
LAST-MODIFIED:20260421T114113
LOCATION:Zoom 
SUMMARY:Prayer
URL;VALUE=URI:https://transformtbay.ca/events/prayer--143/2026-09-02
END:VEVENT
END:VCALENDAR
