BEGIN:VCALENDAR
VERSION:2.0
PRODID:icalendar-ruby
CALSCALE:GREGORIAN
METHOD:PUBLISH
BEGIN:VEVENT
DTSTAMP:20260421T181644Z
UID:112-1711999@transformtbay.com
DTSTART:20260906T143000Z
DTEND:20260906T153000Z
CLASS:PUBLIC
CREATED:20260421T114112
DESCRIPTION:Join us for worship.\nAre you new? Find out more by going here
LAST-MODIFIED:20260421T114112
LOCATION:
SUMMARY:Sunday Worship
URL;VALUE=URI:https://transformtbay.ca/events/sunday-worship/2026-09-06
ATTACH;FILENAME=Sunday-Service-Thumbnail.png;FMTTYPE=image/png:https://dq5p
 wpg1q8ru0.cloudfront.net/2023/01/22/15/50/52/08052dc6-7886-4102-9275-df1c2
 e134597/Sunday-Service-Thumbnail.png
END:VEVENT
END:VCALENDAR
